BEGIN:VCALENDAR
VERSION:2.0
PRODID:-//CIFP PAU CASESNOVES - INCA - ECPv4.9.2//NONSGML v1.0//EN
CALSCALE:GREGORIAN
METHOD:PUBLISH
X-WR-CALNAME:CIFP PAU CASESNOVES - INCA
X-ORIGINAL-URL:https://paucasesnovescifp.cat
X-WR-CALDESC:Events for CIFP PAU CASESNOVES - INCA
BEGIN:VEVENT
DTSTART;VALUE=DATE:20230406
DTEND;VALUE=DATE:20230417
DTSTAMP:20260422T160020
CREATED:20190910T083646Z
LAST-MODIFIED:20220909T092514Z
UID:2262-1680732000-1681682399@paucasesnovescifp.cat
SUMMARY:FESTES de PASQUA
DESCRIPTION:Les vacances de Pàsqua de 2020 començaran el proper dia 9 d’abril i acabaran dia 19 d’abril. \n
URL:https://paucasesnovescifp.cat/?tribe_events=vacances-pasqua
CATEGORIES:curs 22/23
END:VEVENT
END:VCALENDAR