BEGIN:VCALENDAR
VERSION:2.0
PRODID:-//CIFP PAU CASESNOVES - INCA - ECPv4.9.2//NONSGML v1.0//EN
CALSCALE:GREGORIAN
METHOD:PUBLISH
X-WR-CALNAME:CIFP PAU CASESNOVES - INCA
X-ORIGINAL-URL:https://paucasesnovescifp.cat
X-WR-CALDESC:Events for CIFP PAU CASESNOVES - INCA
BEGIN:VEVENT
DTSTART;VALUE=DATE:20260402
DTEND;VALUE=DATE:20260413
DTSTAMP:20260422T165137
CREATED:20250916T160351Z
LAST-MODIFIED:20250916T160351Z
UID:11276-1775080800-1776031199@paucasesnovescifp.cat
SUMMARY:Vacances de Pasqua
DESCRIPTION:
URL:https://paucasesnovescifp.cat/?tribe_events=vacances-de-pasqua-2
CATEGORIES:curs 25/26
END:VEVENT
END:VCALENDAR