BEGIN:VCALENDAR
VERSION:2.0
PRODID:-//CIFP PAU CASESNOVES - INCA - ECPv4.9.2//NONSGML v1.0//EN
CALSCALE:GREGORIAN
METHOD:PUBLISH
X-WR-CALNAME:CIFP PAU CASESNOVES - INCA
X-ORIGINAL-URL:https://paucasesnovescifp.cat
X-WR-CALDESC:Events for CIFP PAU CASESNOVES - INCA
BEGIN:VEVENT
DTSTART;VALUE=DATE:20241221
DTEND;VALUE=DATE:20250108
DTSTAMP:20260422T163823
CREATED:20230918T090954Z
LAST-MODIFIED:20240904T074125Z
UID:7820-1734735600-1736290799@paucasesnovescifp.cat
SUMMARY:VACANCES DE NADAL
DESCRIPTION:
URL:https://paucasesnovescifp.cat/?tribe_events=vacances-de-nadal
CATEGORIES:curs 24/25
END:VEVENT
END:VCALENDAR