BEGIN:VCALENDAR
VERSION:2.0
PRODID:-//CIFP PAU CASESNOVES - INCA - ECPv4.9.2//NONSGML v1.0//EN
CALSCALE:GREGORIAN
METHOD:PUBLISH
X-WR-CALNAME:CIFP PAU CASESNOVES - INCA
X-ORIGINAL-URL:https://paucasesnovescifp.cat
X-WR-CALDESC:Events for CIFP PAU CASESNOVES - INCA
BEGIN:VEVENT
DTSTART;VALUE=DATE:20230612
DTEND;VALUE=DATE:20230617
DTSTAMP:20260422T170823
CREATED:20220203T152948Z
LAST-MODIFIED:20220909T093812Z
UID:5281-1686520800-1686952799@paucasesnovescifp.cat
SUMMARY:Setmana exàmens / projectes
DESCRIPTION:
URL:https://paucasesnovescifp.cat/?tribe_events=setmana-examens-projectes
CATEGORIES:curs 22/23
END:VEVENT
END:VCALENDAR