BEGIN:VCALENDAR
VERSION:2.0
PRODID:-//CIFP PAU CASESNOVES - INCA - ECPv4.9.2//NONSGML v1.0//EN
CALSCALE:GREGORIAN
METHOD:PUBLISH
X-WR-CALNAME:CIFP PAU CASESNOVES - INCA
X-ORIGINAL-URL:https://paucasesnovescifp.cat
X-WR-CALDESC:Events for CIFP PAU CASESNOVES - INCA
BEGIN:VEVENT
DTSTART;VALUE=DATE:20230425
DTEND;VALUE=DATE:20230426
DTSTAMP:20260422T171017
CREATED:20220203T152020Z
LAST-MODIFIED:20220909T093121Z
UID:5268-1682373600-1682459999@paucasesnovescifp.cat
SUMMARY:Sessions d’avaluació 2n FPB
DESCRIPTION:
URL:https://paucasesnovescifp.cat/?tribe_events=sessions-davaluacio-2n-fpb
CATEGORIES:curs 22/23
END:VEVENT
END:VCALENDAR