BEGIN:VCALENDAR
VERSION:2.0
PRODID:-//CIFP PAU CASESNOVES - INCA - ECPv4.9.2//NONSGML v1.0//EN
CALSCALE:GREGORIAN
METHOD:PUBLISH
X-WR-CALNAME:CIFP PAU CASESNOVES - INCA
X-ORIGINAL-URL:https://paucasesnovescifp.cat
X-WR-CALDESC:Events for CIFP PAU CASESNOVES - INCA
BEGIN:VEVENT
DTSTART;VALUE=DATE:20221214
DTEND;VALUE=DATE:20221217
DTSTAMP:20260422T160025
CREATED:20211112T194858Z
LAST-MODIFIED:20221130T102033Z
UID:5211-1670972400-1671231599@paucasesnovescifp.cat
SUMMARY:Sessions d'avaluació
DESCRIPTION:
URL:https://paucasesnovescifp.cat/?tribe_events=sessions-davaluacio
CATEGORIES:curs 22/23
END:VEVENT
END:VCALENDAR