BEGIN:VCALENDAR
VERSION:2.0
PRODID:-//CIFP PAU CASESNOVES - INCA - ECPv4.9.2//NONSGML v1.0//EN
CALSCALE:GREGORIAN
METHOD:PUBLISH
X-WR-CALNAME:CIFP PAU CASESNOVES - INCA
X-ORIGINAL-URL:https://paucasesnovescifp.cat
X-WR-CALDESC:Events for CIFP PAU CASESNOVES - INCA
BEGIN:VEVENT
DTSTART;TZID=UTC+0:20260323T180000
DTEND;TZID=UTC+0:20260323T200000
DTSTAMP:20260422T154853
CREATED:20250916T155017Z
LAST-MODIFIED:20250916T155151Z
UID:11272-1774285200-1774292400@paucasesnovescifp.cat
SUMMARY:Reunió presencial alumnat FP Virtual
DESCRIPTION:
URL:https://paucasesnovescifp.cat/?tribe_events=reunio-presencial-alumnat-fp-virtual
CATEGORIES:curs 25/26
END:VEVENT
END:VCALENDAR