BEGIN:VCALENDAR
VERSION:2.0
PRODID:-//CIFP PAU CASESNOVES - INCA - ECPv4.9.2//NONSGML v1.0//EN
CALSCALE:GREGORIAN
METHOD:PUBLISH
X-WR-CALNAME:CIFP PAU CASESNOVES - INCA
X-ORIGINAL-URL:https://paucasesnovescifp.cat
X-WR-CALDESC:Events for CIFP PAU CASESNOVES - INCA
BEGIN:VEVENT
DTSTART;TZID=UTC+0:20221026T190000
DTEND;TZID=UTC+0:20221026T203000
DTSTAMP:20260422T163904
CREATED:20220909T095621Z
LAST-MODIFIED:20221004T145719Z
UID:6196-1666803600-1666809000@paucasesnovescifp.cat
SUMMARY:REUNIÓ FAMÍLIES
DESCRIPTION:
URL:https://paucasesnovescifp.cat/?tribe_events=reunio-families
CATEGORIES:curs 22/23
END:VEVENT
END:VCALENDAR