BEGIN:VCALENDAR
VERSION:2.0
PRODID:-//CIFP PAU CASESNOVES - INCA - ECPv4.9.2//NONSGML v1.0//EN
CALSCALE:GREGORIAN
METHOD:PUBLISH
X-WR-CALNAME:CIFP PAU CASESNOVES - INCA
X-ORIGINAL-URL:https://paucasesnovescifp.cat
X-WR-CALDESC:Events for CIFP PAU CASESNOVES - INCA
BEGIN:VEVENT
DTSTART;VALUE=DATE:20230626
DTEND;VALUE=DATE:20230627
DTSTAMP:20260422T163901
CREATED:20220203T153838Z
LAST-MODIFIED:20220909T094620Z
UID:5291-1687730400-1687816799@paucasesnovescifp.cat
SUMMARY:Reclamacions i Resolució de Reclamacions
DESCRIPTION:
URL:https://paucasesnovescifp.cat/?tribe_events=reclamacions
CATEGORIES:curs 22/23
END:VEVENT
END:VCALENDAR