BEGIN:VCALENDAR
VERSION:2.0
PRODID:-//CIFP PAU CASESNOVES - INCA - ECPv4.9.2//NONSGML v1.0//EN
CALSCALE:GREGORIAN
METHOD:PUBLISH
X-WR-CALNAME:CIFP PAU CASESNOVES - INCA
X-ORIGINAL-URL:https://paucasesnovescifp.cat
X-WR-CALDESC:Events for CIFP PAU CASESNOVES - INCA
BEGIN:VEVENT
DTSTART;TZID=UTC+0:20221221T210000
DTEND;TZID=UTC+0:20221221T210000
DTSTAMP:20260422T155720
CREATED:20211112T195112Z
LAST-MODIFIED:20220909T090842Z
UID:5213-1671652800-1671652800@paucasesnovescifp.cat
SUMMARY:Lliurament Butlletins
DESCRIPTION:GESTIB 21h \n
URL:https://paucasesnovescifp.cat/?tribe_events=lliurament-butlletins
CATEGORIES:curs 22/23
END:VEVENT
END:VCALENDAR