BEGIN:VCALENDAR
VERSION:2.0
PRODID:-//CIFP PAU CASESNOVES - INCA - ECPv4.9.2//NONSGML v1.0//EN
CALSCALE:GREGORIAN
METHOD:PUBLISH
X-WR-CALNAME:CIFP PAU CASESNOVES - INCA
X-ORIGINAL-URL:https://paucasesnovescifp.cat
X-WR-CALDESC:Events for CIFP PAU CASESNOVES - INCA
BEGIN:VEVENT
DTSTART;VALUE=DATE:20230508
DTEND;VALUE=DATE:20230510
DTSTAMP:20260422T155953
CREATED:20220203T151641Z
LAST-MODIFIED:20230221T100740Z
UID:5263-1683496800-1683669599@paucasesnovescifp.cat
SUMMARY:Jornades portes obertes / SKILLS
DESCRIPTION:
URL:https://paucasesnovescifp.cat/?tribe_events=jornades-portes-obertes
CATEGORIES:curs 22/23
END:VEVENT
END:VCALENDAR