BEGIN:VCALENDAR
VERSION:2.0
PRODID:-//CIFP PAU CASESNOVES - INCA - ECPv4.9.2//NONSGML v1.0//EN
CALSCALE:GREGORIAN
METHOD:PUBLISH
X-WR-CALNAME:CIFP PAU CASESNOVES - INCA
X-ORIGINAL-URL:https://paucasesnovescifp.cat
X-WR-CALDESC:Events for CIFP PAU CASESNOVES - INCA
BEGIN:VEVENT
DTSTART;VALUE=DATE:20260330
DTEND;VALUE=DATE:20260331
DTSTAMP:20260422T154801
CREATED:20250916T155523Z
LAST-MODIFIED:20250916T155523Z
UID:11274-1774821600-1774907999@paucasesnovescifp.cat
SUMMARY:Inici pràctiques 1r INTENSIVA TMV
DESCRIPTION:
URL:https://paucasesnovescifp.cat/?tribe_events=inici-practiques-1r-intensiva-tmv
CATEGORIES:curs 25/26
END:VEVENT
END:VCALENDAR