BEGIN:VCALENDAR
VERSION:2.0
PRODID:-//CIFP PAU CASESNOVES - INCA - ECPv4.9.2//NONSGML v1.0//EN
CALSCALE:GREGORIAN
METHOD:PUBLISH
X-WR-CALNAME:CIFP PAU CASESNOVES - INCA
X-ORIGINAL-URL:https://paucasesnovescifp.cat
X-WR-CALDESC:Events for CIFP PAU CASESNOVES - INCA
BEGIN:VEVENT
DTSTART;VALUE=DATE:20260311
DTEND;VALUE=DATE:20260312
DTSTAMP:20260422T163829
CREATED:20250916T154808Z
LAST-MODIFIED:20250916T154808Z
UID:11270-1773183600-1773269999@paucasesnovescifp.cat
SUMMARY:Inici FCT  i  FEMPO 2n
DESCRIPTION:
URL:https://paucasesnovescifp.cat/?tribe_events=inici-fct-i-fempo-2n
CATEGORIES:curs 25/26
END:VEVENT
END:VCALENDAR