BEGIN:VCALENDAR
VERSION:2.0
PRODID:-//CIFP PAU CASESNOVES - INCA - ECPv4.9.2//NONSGML v1.0//EN
CALSCALE:GREGORIAN
METHOD:PUBLISH
X-WR-CALNAME:CIFP PAU CASESNOVES - INCA
X-ORIGINAL-URL:https://paucasesnovescifp.cat
X-WR-CALDESC:Events for CIFP PAU CASESNOVES - INCA
BEGIN:VEVENT
DTSTART;VALUE=DATE:20240320
DTEND;VALUE=DATE:20240321
DTSTAMP:20260422T163855
CREATED:20230918T092644Z
LAST-MODIFIED:20230918T092644Z
UID:7843-1710889200-1710975599@paucasesnovescifp.cat
SUMMARY:Inici FCT GM i GS
DESCRIPTION:
URL:https://paucasesnovescifp.cat/?tribe_events=inici-fct-gm-i-gs-5
CATEGORIES:curs 23/24
END:VEVENT
END:VCALENDAR