BEGIN:VCALENDAR
VERSION:2.0
PRODID:-//CIFP PAU CASESNOVES - INCA - ECPv4.9.2//NONSGML v1.0//EN
CALSCALE:GREGORIAN
METHOD:PUBLISH
X-WR-CALNAME:CIFP PAU CASESNOVES - INCA
X-ORIGINAL-URL:https://paucasesnovescifp.cat
X-WR-CALDESC:Events for CIFP PAU CASESNOVES - INCA
BEGIN:VEVENT
DTSTART;VALUE=DATE:20220927
DTEND;VALUE=DATE:20220928
DTSTAMP:20260422T163900
CREATED:20220909T095306Z
LAST-MODIFIED:20220909T095306Z
UID:6190-1664229600-1664315999@paucasesnovescifp.cat
SUMMARY:Inici FCT GM i GS
DESCRIPTION:
URL:https://paucasesnovescifp.cat/?tribe_events=inici-fct-gm-i-gs-3
CATEGORIES:curs 22/23
END:VEVENT
END:VCALENDAR