BEGIN:VCALENDAR
VERSION:2.0
PRODID:-//CIFP PAU CASESNOVES - INCA - ECPv4.9.2//NONSGML v1.0//EN
CALSCALE:GREGORIAN
METHOD:PUBLISH
X-WR-CALNAME:CIFP PAU CASESNOVES - INCA
X-ORIGINAL-URL:https://paucasesnovescifp.cat
X-WR-CALDESC:Events for CIFP PAU CASESNOVES - INCA
BEGIN:VEVENT
DTSTART;TZID=UTC+0:20190930T080000
DTEND;TZID=UTC+0:20190930T170000
DTSTAMP:20260422T165131
CREATED:20190910T084930Z
LAST-MODIFIED:20190910T084930Z
UID:2287-1569823200-1569855600@paucasesnovescifp.cat
SUMMARY:Inici FCT GM i GS
DESCRIPTION:
URL:https://paucasesnovescifp.cat/?tribe_events=inici-fct-gm-i-gs
END:VEVENT
END:VCALENDAR