BEGIN:VCALENDAR
VERSION:2.0
PRODID:-//CIFP PAU CASESNOVES - INCA - ECPv4.9.2//NONSGML v1.0//EN
CALSCALE:GREGORIAN
METHOD:PUBLISH
X-WR-CALNAME:CIFP PAU CASESNOVES - INCA
X-ORIGINAL-URL:https://paucasesnovescifp.cat
X-WR-CALDESC:Events for CIFP PAU CASESNOVES - INCA
BEGIN:VEVENT
DTSTART;VALUE=DATE:20240502
DTEND;VALUE=DATE:20240503
DTSTAMP:20260422T163930
CREATED:20230918T093019Z
LAST-MODIFIED:20230918T093019Z
UID:7849-1714600800-1714687199@paucasesnovescifp.cat
SUMMARY:Inici FCT FPB
DESCRIPTION:
URL:https://paucasesnovescifp.cat/?tribe_events=inici-fct-fpb-3
CATEGORIES:curs 23/24
END:VEVENT
END:VCALENDAR