BEGIN:VCALENDAR
VERSION:2.0
PRODID:-//CIFP PAU CASESNOVES - INCA - ECPv4.9.2//NONSGML v1.0//EN
CALSCALE:GREGORIAN
METHOD:PUBLISH
X-WR-CALNAME:CIFP PAU CASESNOVES - INCA
X-ORIGINAL-URL:https://paucasesnovescifp.cat
X-WR-CALDESC:Events for CIFP PAU CASESNOVES - INCA
BEGIN:VEVENT
DTSTART;VALUE=DATE:20230922
DTEND;VALUE=DATE:20230923
DTSTAMP:20260422T155535
CREATED:20230918T082333Z
LAST-MODIFIED:20230918T082333Z
UID:7790-1695333600-1695419999@paucasesnovescifp.cat
SUMMARY:Inici de curs GB\, GM i GS presencial i intensiu
DESCRIPTION:
URL:https://paucasesnovescifp.cat/?tribe_events=inici-de-curs-gb-gm-i-gs-presencial-i-intensiu
CATEGORIES:curs 23/24
END:VEVENT
END:VCALENDAR