BEGIN:VCALENDAR
VERSION:2.0
PRODID:-//CIFP PAU CASESNOVES - INCA - ECPv4.9.2//NONSGML v1.0//EN
CALSCALE:GREGORIAN
METHOD:PUBLISH
X-WR-CALNAME:CIFP PAU CASESNOVES - INCA
X-ORIGINAL-URL:https://paucasesnovescifp.cat
X-WR-CALDESC:Events for CIFP PAU CASESNOVES - INCA
BEGIN:VEVENT
DTSTART;VALUE=DATE:20231208
DTEND;VALUE=DATE:20231209
DTSTAMP:20260422T165057
CREATED:20230918T085929Z
LAST-MODIFIED:20230918T085929Z
UID:7816-1701990000-1702076399@paucasesnovescifp.cat
SUMMARY:Immaculada Concepció
DESCRIPTION:
URL:https://paucasesnovescifp.cat/?tribe_events=immaculada-concepcio
CATEGORIES:curs 23/24
END:VEVENT
END:VCALENDAR