BEGIN:VCALENDAR
VERSION:2.0
PRODID:-//CIFP PAU CASESNOVES - INCA - ECPv4.9.2//NONSGML v1.0//EN
CALSCALE:GREGORIAN
METHOD:PUBLISH
X-WR-CALNAME:CIFP PAU CASESNOVES - INCA
X-ORIGINAL-URL:https://paucasesnovescifp.cat
X-WR-CALDESC:Events for CIFP PAU CASESNOVES - INCA
BEGIN:VEVENT
DTSTART;VALUE=DATE:20260116
DTEND;VALUE=DATE:20260117
DTSTAMP:20260421T173610
CREATED:20250916T153846Z
LAST-MODIFIED:20250916T153846Z
UID:11258-1768518000-1768604399@paucasesnovescifp.cat
SUMMARY:Fogueró Sant Antoni
DESCRIPTION:
URL:https://paucasesnovescifp.cat/?tribe_events=foguero-sant-antoni-3
CATEGORIES:curs 25/26
END:VEVENT
END:VCALENDAR