BEGIN:VCALENDAR
VERSION:2.0
PRODID:-//CIFP PAU CASESNOVES - INCA - ECPv4.9.2//NONSGML v1.0//EN
CALSCALE:GREGORIAN
METHOD:PUBLISH
X-WR-CALNAME:CIFP PAU CASESNOVES - INCA
X-ORIGINAL-URL:https://paucasesnovescifp.cat
X-WR-CALDESC:Events for CIFP PAU CASESNOVES - INCA
BEGIN:VEVENT
DTSTART;VALUE=DATE:20250117
DTEND;VALUE=DATE:20250118
DTSTAMP:20260422T155950
CREATED:20220909T100417Z
LAST-MODIFIED:20240917T151055Z
UID:6210-1737068400-1737154799@paucasesnovescifp.cat
SUMMARY:Fogueró Sant Antoni
DESCRIPTION:
URL:https://paucasesnovescifp.cat/?tribe_events=foguero-sant-antoni
CATEGORIES:curs 24/25
END:VEVENT
END:VCALENDAR