BEGIN:VCALENDAR
VERSION:2.0
PRODID:-//CIFP PAU CASESNOVES - INCA - ECPv4.9.2//NONSGML v1.0//EN
CALSCALE:GREGORIAN
METHOD:PUBLISH
X-WR-CALNAME:CIFP PAU CASESNOVES - INCA
X-ORIGINAL-URL:https://paucasesnovescifp.cat
X-WR-CALDESC:Events for CIFP PAU CASESNOVES - INCA
BEGIN:VEVENT
DTSTART;VALUE=DATE:20231213
DTEND;VALUE=DATE:20231214
DTSTAMP:20260422T171050
CREATED:20230918T090616Z
LAST-MODIFIED:20230918T090616Z
UID:7818-1702422000-1702508399@paucasesnovescifp.cat
SUMMARY:Fi FCT tots els nivells
DESCRIPTION:NIVELLS \n
URL:https://paucasesnovescifp.cat/?tribe_events=fi-fct-tots-els-nivells-3
CATEGORIES:curs 23/24
END:VEVENT
END:VCALENDAR