BEGIN:VCALENDAR
VERSION:2.0
PRODID:-//CIFP PAU CASESNOVES - INCA - ECPv4.9.2//NONSGML v1.0//EN
CALSCALE:GREGORIAN
METHOD:PUBLISH
X-WR-CALNAME:CIFP PAU CASESNOVES - INCA
X-ORIGINAL-URL:https://paucasesnovescifp.cat
X-WR-CALDESC:Events for CIFP PAU CASESNOVES - INCA
BEGIN:VEVENT
DTSTART;VALUE=DATE:20230612
DTEND;VALUE=DATE:20230613
DTSTAMP:20260422T171049
CREATED:20220909T101407Z
LAST-MODIFIED:20220909T101531Z
UID:6223-1686520800-1686607199@paucasesnovescifp.cat
SUMMARY:Fi FCT tots els nivells
DESCRIPTION:
URL:https://paucasesnovescifp.cat/?tribe_events=fi-fct-tots-els-nivells-2
CATEGORIES:curs 22/23
END:VEVENT
END:VCALENDAR