BEGIN:VCALENDAR
VERSION:2.0
PRODID:-//CIFP PAU CASESNOVES - INCA - ECPv4.9.2//NONSGML v1.0//EN
CALSCALE:GREGORIAN
METHOD:PUBLISH
X-WR-CALNAME:CIFP PAU CASESNOVES - INCA
X-ORIGINAL-URL:https://paucasesnovescifp.cat
X-WR-CALDESC:Events for CIFP PAU CASESNOVES - INCA
BEGIN:VEVENT
DTSTART;VALUE=DATE:20221101
DTEND;VALUE=DATE:20221102
DTSTAMP:20260422T164418
CREATED:20190910T081342Z
LAST-MODIFIED:20220909T085945Z
UID:2235-1667257200-1667343599@paucasesnovescifp.cat
SUMMARY:Festiu tots sants
DESCRIPTION:
URL:https://paucasesnovescifp.cat/?tribe_events=festiu-tots-sants
CATEGORIES:curs 22/23
END:VEVENT
END:VCALENDAR