BEGIN:VCALENDAR
VERSION:2.0
PRODID:-//CIFP PAU CASESNOVES - INCA - ECPv4.9.2//NONSGML v1.0//EN
CALSCALE:GREGORIAN
METHOD:PUBLISH
X-WR-CALNAME:CIFP PAU CASESNOVES - INCA
X-ORIGINAL-URL:https://paucasesnovescifp.cat
X-WR-CALDESC:Events for CIFP PAU CASESNOVES - INCA
BEGIN:VEVENT
DTSTART;VALUE=DATE:20241115
DTEND;VALUE=DATE:20241116
DTSTAMP:20260422T155949
CREATED:20230918T084208Z
LAST-MODIFIED:20240912T110527Z
UID:7810-1731625200-1731711599@paucasesnovescifp.cat
SUMMARY:FESTIU escollit pel centre
DESCRIPTION:
URL:https://paucasesnovescifp.cat/?tribe_events=festiu-divendres-bo
CATEGORIES:curs 24/25
END:VEVENT
END:VCALENDAR