BEGIN:VCALENDAR
VERSION:2.0
PRODID:-//CIFP PAU CASESNOVES - INCA - ECPv4.9.2//NONSGML v1.0//EN
CALSCALE:GREGORIAN
METHOD:PUBLISH
X-WR-CALNAME:CIFP PAU CASESNOVES - INCA
X-ORIGINAL-URL:https://paucasesnovescifp.cat
X-WR-CALDESC:Events for CIFP PAU CASESNOVES - INCA
BEGIN:VEVENT
DTSTART;VALUE=DATE:20241114
DTEND;VALUE=DATE:20241115
DTSTAMP:20260422T170904
CREATED:20230918T084123Z
LAST-MODIFIED:20240904T073125Z
UID:7808-1731538800-1731625199@paucasesnovescifp.cat
SUMMARY:FESTIU DIJOUS BO
DESCRIPTION:
URL:https://paucasesnovescifp.cat/?tribe_events=festiu-dijous-bo
CATEGORIES:curs 24/25
END:VEVENT
END:VCALENDAR