BEGIN:VCALENDAR
VERSION:2.0
PRODID:-//CIFP PAU CASESNOVES - INCA - ECPv4.9.2//NONSGML v1.0//EN
CALSCALE:GREGORIAN
METHOD:PUBLISH
X-WR-CALNAME:CIFP PAU CASESNOVES - INCA
X-ORIGINAL-URL:https://paucasesnovescifp.cat
X-WR-CALDESC:Events for CIFP PAU CASESNOVES - INCA
BEGIN:VEVENT
DTSTART;VALUE=DATE:20231207
DTEND;VALUE=DATE:20231208
DTSTAMP:20260422T155848
CREATED:20230918T085836Z
LAST-MODIFIED:20230918T085836Z
UID:7814-1701903600-1701989999@paucasesnovescifp.cat
SUMMARY:FESTIU
DESCRIPTION:
URL:https://paucasesnovescifp.cat/?tribe_events=festiu-3
CATEGORIES:curs 23/24
END:VEVENT
END:VCALENDAR