BEGIN:VCALENDAR
VERSION:2.0
PRODID:-//CIFP PAU CASESNOVES - INCA - ECPv4.9.2//NONSGML v1.0//EN
CALSCALE:GREGORIAN
METHOD:PUBLISH
X-WR-CALNAME:CIFP PAU CASESNOVES - INCA
X-ORIGINAL-URL:https://paucasesnovescifp.cat
X-WR-CALDESC:Events for CIFP PAU CASESNOVES - INCA
BEGIN:VEVENT
DTSTART;TZID=UTC+0:20230622T190000
DTEND;TZID=UTC+0:20230622T210000
DTSTAMP:20260422T170920
CREATED:20230618T105648Z
LAST-MODIFIED:20230619T183323Z
UID:7290-1687453200-1687460400@paucasesnovescifp.cat
SUMMARY:FESTA FI DE CICLE (GRADUACIONS)
DESCRIPTION:
URL:https://paucasesnovescifp.cat/?tribe_events=festa-fi-de-cicle
END:VEVENT
END:VCALENDAR