BEGIN:VCALENDAR
VERSION:2.0
PRODID:-//CIFP PAU CASESNOVES - INCA - ECPv4.9.2//NONSGML v1.0//EN
CALSCALE:GREGORIAN
METHOD:PUBLISH
X-WR-CALNAME:CIFP PAU CASESNOVES - INCA
X-ORIGINAL-URL:https://paucasesnovescifp.cat
X-WR-CALDESC:Events for CIFP PAU CASESNOVES - INCA
BEGIN:VEVENT
DTSTART;VALUE=DATE:20250228
DTEND;VALUE=DATE:20250301
DTSTAMP:20260422T170846
CREATED:20230918T091801Z
LAST-MODIFIED:20240904T074856Z
UID:7832-1740697200-1740783599@paucasesnovescifp.cat
SUMMARY:Festa Escolar Unificada
DESCRIPTION:
URL:https://paucasesnovescifp.cat/?tribe_events=festa-escolar-unificada
CATEGORIES:curs 24/25
END:VEVENT
END:VCALENDAR