BEGIN:VCALENDAR
VERSION:2.0
PRODID:-//CIFP PAU CASESNOVES - INCA - ECPv4.9.2//NONSGML v1.0//EN
CALSCALE:GREGORIAN
METHOD:PUBLISH
X-WR-CALNAME:CIFP PAU CASESNOVES - INCA
X-ORIGINAL-URL:https://paucasesnovescifp.cat
X-WR-CALDESC:Events for CIFP PAU CASESNOVES - INCA
BEGIN:VEVENT
DTSTART;VALUE=DATE:20230629
DTEND;VALUE=DATE:20230701
DTSTAMP:20260422T155849
CREATED:20220909T102029Z
LAST-MODIFIED:20230618T105501Z
UID:6229-1687989600-1688162399@paucasesnovescifp.cat
SUMMARY:Exàmens Extraordinaris
DESCRIPTION:
URL:https://paucasesnovescifp.cat/?tribe_events=examens-extraordinaris
CATEGORIES:curs 22/23
END:VEVENT
END:VCALENDAR