BEGIN:VCALENDAR
VERSION:2.0
PRODID:-//CIFP PAU CASESNOVES - INCA - ECPv4.9.2//NONSGML v1.0//EN
CALSCALE:GREGORIAN
METHOD:PUBLISH
X-WR-CALNAME:CIFP PAU CASESNOVES - INCA
X-ORIGINAL-URL:https://paucasesnovescifp.cat
X-WR-CALDESC:Events for CIFP PAU CASESNOVES - INCA
BEGIN:VEVENT
DTSTART;VALUE=DATE:20230522
DTEND;VALUE=DATE:20230524
DTSTAMP:20260422T170928
CREATED:20220915T072025Z
LAST-MODIFIED:20220915T072331Z
UID:6277-1684706400-1684879199@paucasesnovescifp.cat
SUMMARY:EXAM. DISTÀNCIA 1A CONVOCATÒRIA
DESCRIPTION:
URL:https://paucasesnovescifp.cat/?tribe_events=exam-distancia-1a-convocatoria
CATEGORIES:curs 22/23
END:VEVENT
END:VCALENDAR