BEGIN:VCALENDAR
VERSION:2.0
PRODID:-//CIFP PAU CASESNOVES - INCA - ECPv4.9.2//NONSGML v1.0//EN
CALSCALE:GREGORIAN
METHOD:PUBLISH
X-WR-CALNAME:CIFP PAU CASESNOVES - INCA
X-ORIGINAL-URL:https://paucasesnovescifp.cat
X-WR-CALDESC:Events for CIFP PAU CASESNOVES - INCA
BEGIN:VEVENT
DTSTART;VALUE=DATE:20221118
DTEND;VALUE=DATE:20221119
DTSTAMP:20260422T155845
CREATED:20211112T191432Z
LAST-MODIFIED:20220909T090230Z
UID:5196-1668726000-1668812399@paucasesnovescifp.cat
SUMMARY:DIVENDRES BO
DESCRIPTION:
URL:https://paucasesnovescifp.cat/?tribe_events=divendres-bo
CATEGORIES:curs 22/23
END:VEVENT
END:VCALENDAR