BEGIN:VCALENDAR
VERSION:2.0
PRODID:-//CIFP PAU CASESNOVES - INCA - ECPv4.9.2//NONSGML v1.0//EN
CALSCALE:GREGORIAN
METHOD:PUBLISH
X-WR-CALNAME:CIFP PAU CASESNOVES - INCA
X-ORIGINAL-URL:https://paucasesnovescifp.cat
X-WR-CALDESC:Events for CIFP PAU CASESNOVES - INCA
BEGIN:VEVENT
DTSTART;VALUE=DATE:20241101
DTEND;VALUE=DATE:20241102
DTSTAMP:20260422T170806
CREATED:20230918T083911Z
LAST-MODIFIED:20240904T074647Z
UID:7789-1730415600-1730501999@paucasesnovescifp.cat
SUMMARY:Dia de Tots Sants
DESCRIPTION:
URL:https://paucasesnovescifp.cat/?tribe_events=dia-de-tots-sants
CATEGORIES:curs 24/25
END:VEVENT
END:VCALENDAR