BEGIN:VCALENDAR
VERSION:2.0
PRODID:-//CIFP PAU CASESNOVES - INCA - ECPv4.9.2//NONSGML v1.0//EN
CALSCALE:GREGORIAN
METHOD:PUBLISH
X-WR-CALNAME:CIFP PAU CASESNOVES - INCA
X-ORIGINAL-URL:https://paucasesnovescifp.cat
X-WR-CALDESC:Events for CIFP PAU CASESNOVES - INCA
BEGIN:VEVENT
DTSTART;TZID=UTC+0:20230405T210000
DTEND;TZID=UTC+0:20230405T210000
DTSTAMP:20260422T155942
CREATED:20220203T151825Z
LAST-MODIFIED:20220909T092907Z
UID:5265-1680721200-1680721200@paucasesnovescifp.cat
SUMMARY:Butlletins grups de primer (GESTIB)
DESCRIPTION:
URL:https://paucasesnovescifp.cat/?tribe_events=butlletins-grups-de-primer-gestib
CATEGORIES:curs 22/23
END:VEVENT
END:VCALENDAR