BEGIN:VCALENDAR
VERSION:2.0
PRODID:-//CIFP PAU CASESNOVES - INCA - ECPv4.9.2//NONSGML v1.0//EN
CALSCALE:GREGORIAN
METHOD:PUBLISH
X-WR-CALNAME:CIFP PAU CASESNOVES - INCA
X-ORIGINAL-URL:https://paucasesnovescifp.cat
X-WR-CALDESC:Events for CIFP PAU CASESNOVES - INCA
BEGIN:VEVENT
DTSTART;TZID=UTC+0:20230314T210000
DTEND;TZID=UTC+0:20230314T210000
DTSTAMP:20260422T161139
CREATED:20220909T100817Z
LAST-MODIFIED:20220909T100817Z
UID:6216-1678824000-1678824000@paucasesnovescifp.cat
SUMMARY:Butlletins grups 2n
DESCRIPTION:
URL:https://paucasesnovescifp.cat/?tribe_events=butlletins-grups-2n
CATEGORIES:curs 22/23
END:VEVENT
END:VCALENDAR